BEGIN:VCALENDAR
VERSION:2.0
PRODID:-//The Monmouth Voice - ECPv6.15.20//NONSGML v1.0//EN
CALSCALE:GREGORIAN
METHOD:PUBLISH
X-ORIGINAL-URL:https://monmouthvoice.com
X-WR-CALDESC:Events for The Monmouth Voice
REFRESH-INTERVAL;VALUE=DURATION:PT1H
X-Robots-Tag:noindex
X-PUBLISHED-TTL:PT1H
BEGIN:VTIMEZONE
TZID:America/New_York
BEGIN:DAYLIGHT
TZOFFSETFROM:-0500
TZOFFSETTO:-0400
TZNAME:EDT
DTSTART:20210314T070000
END:DAYLIGHT
BEGIN:STANDARD
TZOFFSETFROM:-0400
TZOFFSETTO:-0500
TZNAME:EST
DTSTART:20211107T060000
END:STANDARD
BEGIN:DAYLIGHT
TZOFFSETFROM:-0500
TZOFFSETTO:-0400
TZNAME:EDT
DTSTART:20220313T070000
END:DAYLIGHT
BEGIN:STANDARD
TZOFFSETFROM:-0400
TZOFFSETTO:-0500
TZNAME:EST
DTSTART:20221106T060000
END:STANDARD
BEGIN:DAYLIGHT
TZOFFSETFROM:-0500
TZOFFSETTO:-0400
TZNAME:EDT
DTSTART:20230312T070000
END:DAYLIGHT
BEGIN:STANDARD
TZOFFSETFROM:-0400
TZOFFSETTO:-0500
TZNAME:EST
DTSTART:20231105T060000
END:STANDARD
END:VTIMEZONE
BEGIN:VEVENT
DTSTART;TZID=America/New_York:20220716T080000
DTEND;TZID=America/New_York:20220716T170000
DTSTAMP:20260424T061102
CREATED:20220114T225749Z
LAST-MODIFIED:20220517T153808Z
UID:1095-1657958400-1657990800@monmouthvoice.com
SUMMARY:FilmOneFest 2022
DESCRIPTION:The FilmOneFest is an annual short film festival challenging filmmakers of all kinds to tell their stories in UNDER 2 MINUTES.
URL:https://monmouthvoice.com/event/filmonefest-2022/
LOCATION:Atlantic Highlands Marina\, Atlantic Highlands\, NJ\, 07716\, United States
CATEGORIES:Culture,Film Festival
END:VEVENT
BEGIN:VEVENT
DTSTART;TZID=America/New_York:20220711T000000
DTEND;TZID=America/New_York:20220717T211800
DTSTAMP:20260424T061102
CREATED:20220517T144013Z
LAST-MODIFIED:20220517T213535Z
UID:1540-1657497600-1658092680@monmouthvoice.com
SUMMARY:Newark Pride Week
DESCRIPTION:Newark Pride\n7/11/2022 -7/17/2022\n\n\n\nThe Mission of Newark Pride\, Inc is to increase awareness of the LGBTQ+ community by providing education\, advocating for social justice\, increasing progressive public policy\, and developing opportunities for empowerment through fellowship.\n\n\n\n\n\n\n\nnewarkpride.org
URL:https://monmouthvoice.com/event/newark-pride/
LOCATION:NJ
CATEGORIES:Film Festival,LGBTQ Pride,Things To Do
END:VEVENT
BEGIN:VEVENT
DTSTART;TZID=America/New_York:20220625T103000
DTEND;TZID=America/New_York:20220625T103000
DTSTAMP:20260424T061102
CREATED:20220517T144012Z
LAST-MODIFIED:20220517T211309Z
UID:1536-1656153000-1656153000@monmouthvoice.com
SUMMARY:Morris County Pride
DESCRIPTION:Morris County Pride invites you to join our festival at the County College of Morris in New Jersey. Take part in a family-friendly event to support visibility and local LGBTQ+ programming and care. Entrance FREE. \nhttp://www.edgenj.org/mcpride
URL:https://monmouthvoice.com/event/morris-county-pride/
LOCATION:County College of Morris New Jersey
CATEGORIES:LGBTQ Pride,Things To Do,Workshop/Demonstration
ATTACH;FMTTYPE=image/png:https://monmouthvoice.com/wp-content/uploads/2022/05/morris.png
END:VEVENT
BEGIN:VEVENT
DTSTART;TZID=America/New_York:20220618T120000
DTEND;TZID=America/New_York:20220618T120000
DTSTAMP:20260424T061102
CREATED:20220517T144058Z
LAST-MODIFIED:20220517T151513Z
UID:1565-1655553600-1655553600@monmouthvoice.com
SUMMARY:Union County Pride in the Park
DESCRIPTION:
URL:https://monmouthvoice.com/event/union-county-pride-in-the-park/
LOCATION:NJ
CATEGORIES:Film Festival,LGBTQ Pride,Things To Do
END:VEVENT
BEGIN:VEVENT
DTSTART;TZID=America/New_York:20220618T110000
DTEND;TZID=America/New_York:20220618T110000
DTSTAMP:20260424T061102
CREATED:20220517T144028Z
LAST-MODIFIED:20220517T191801Z
UID:1549-1655550000-1655550000@monmouthvoice.com
SUMMARY:Princeton Pride Parade '22
DESCRIPTION:Bayard Rustin Center for Social Justice\nPRINCETON PRIDE PARADE ’22\nJUNE 18\nMarchin’ in Solidarity\nDancin’ in Celebration\nRespectin’ how far we’ve come\nRecognizin’ how far we have yet to go\nAs meaningful as it is fabulous\n2019 ~ Over 3\,000 marchin’ in the streets at Princeton’s 1st-ever Pride Parade\n’20 & ’21 ~ Over 20\,000 sharin’ community at our international Virtual Pride events\n2022 ~ Back on the streets\, baby\, you ain’t seen nothin’ yet…\nAngelic Troublemakers back together in beautiful community once again all y’all!\nMore deets comin’ soon~\nStay tuned\, true believers!https://www.facebook.com/events/5313909991976572
URL:https://monmouthvoice.com/event/princeton-pride-parade-22/
LOCATION:NJ
CATEGORIES:Film Festival,LGBTQ Pride,Things To Do
ATTACH;FMTTYPE=image/jpeg:https://monmouthvoice.com/wp-content/uploads/2022/05/278706206_1170052743823881_9118873428380587185_n.jpg
END:VEVENT
BEGIN:VEVENT
DTSTART;TZID=America/New_York:20220612T130000
DTEND;TZID=America/New_York:20220612T130000
DTSTAMP:20260424T061102
CREATED:20220517T143958Z
LAST-MODIFIED:20220517T204413Z
UID:1525-1655038800-1655038800@monmouthvoice.com
SUMMARY:Leonia Pride
DESCRIPTION:
URL:https://monmouthvoice.com/event/leonia-pride/
LOCATION:Wood Park\, Leonia NJ
CATEGORIES:Film Festival,LGBTQ Pride,Things To Do
END:VEVENT
BEGIN:VEVENT
DTSTART;TZID=America/New_York:20220612T130000
DTEND;TZID=America/New_York:20220612T130000
DTSTAMP:20260424T061102
CREATED:20220517T143952Z
LAST-MODIFIED:20220517T201707Z
UID:1515-1655038800-1655038800@monmouthvoice.com
SUMMARY:Bordentown City
DESCRIPTION:
URL:https://monmouthvoice.com/event/bordentown-city/
LOCATION:NJ
CATEGORIES:Film Festival,LGBTQ Pride,Things To Do
END:VEVENT
BEGIN:VEVENT
DTSTART;TZID=America/New_York:20220604T120000
DTEND;TZID=America/New_York:20220604T120000
DTSTAMP:20260424T061102
CREATED:20220517T143957Z
LAST-MODIFIED:20220517T190958Z
UID:1523-1654344000-1654344000@monmouthvoice.com
SUMMARY:Glen Rock
DESCRIPTION:
URL:https://monmouthvoice.com/event/glen-rock/
LOCATION:NJ
CATEGORIES:Film Festival,LGBTQ Pride,Things To Do
END:VEVENT
BEGIN:VEVENT
DTSTART;TZID=America/New_York:20220602T170000
DTEND;TZID=America/New_York:20220602T210000
DTSTAMP:20260424T061102
CREATED:20220517T201014Z
LAST-MODIFIED:20220517T201014Z
UID:1688-1654189200-1654203600@monmouthvoice.com
SUMMARY:Out Montclair! Pride Night at the Museum
DESCRIPTION:Pride Night at the Museum\nJoin Out Montclair and the Montclair Art Museum for the first event of Montclair Pride 2022! \nIn partnership with MAM join us for a night of fun musical programming to celebrate Montclair Pride Week! This event will celebrate queer artists\, musicians\, DJs\, dancers… and our guests! \n\nMontclair Art Museum 3 South Mountain Avenue\,Montclair\, NJ\, 07042United States (map)
URL:https://monmouthvoice.com/event/out-montclair-pride-night-at-the-museum/
LOCATION:Montclair Museum\, 3 South Mountain Avenue\, \,Montclair\, NJ\, 07042
CATEGORIES:Culture,LGBTQ Pride,Things To Do
END:VEVENT
BEGIN:VEVENT
DTSTART;TZID=America/New_York:20220522T000000
DTEND;TZID=America/New_York:20220522T000000
DTSTAMP:20260424T061102
CREATED:20220517T144012Z
LAST-MODIFIED:20220517T211425Z
UID:1537-1653177600-1653177600@monmouthvoice.com
SUMMARY:New Hope/Lambertville PrideFest Annual Pride Parade and Fair
DESCRIPTION:
URL:https://monmouthvoice.com/event/new-hope-lambertville-pridefest-annual-pride-parade-and-fair/
LOCATION:NJ
CATEGORIES:Film Festival,LGBTQ Pride,Things To Do
END:VEVENT
BEGIN:VEVENT
DTSTART;TZID=America/New_York:20220517T000000
DTEND;TZID=America/New_York:20220517T000000
DTSTAMP:20260424T061102
CREATED:20220517T144012Z
LAST-MODIFIED:20220517T190959Z
UID:1538-1652745600-1652745600@monmouthvoice.com
SUMMARY:New Jersey Pride Chamber of Commerce Mixer
DESCRIPTION:
URL:https://monmouthvoice.com/event/new-jersey-pride-chamber-of-commerce-mixer/
LOCATION:NJ
CATEGORIES:Film Festival,LGBTQ Pride,Things To Do
END:VEVENT
BEGIN:VEVENT
DTSTART;TZID=America/New_York:20220319T133000
DTEND;TZID=America/New_York:20220319T160000
DTSTAMP:20260424T061103
CREATED:20220311T152559Z
LAST-MODIFIED:20220311T152559Z
UID:1404-1647696600-1647705600@monmouthvoice.com
SUMMARY:Introduction to Pinhole Photography and Cyanotype Demonstration
DESCRIPTION:Saturday\, March 19\, 2022 \n1:30 PM  4:00 PM  \nAH Arts Council 54 First Avenue\, Atlantic Highlands\, NJ\, 07716United States (map)
URL:https://monmouthvoice.com/event/introduction-to-pinhole-photography-and-cyanotype-demonstration/
LOCATION:Atlantic Highlands Arts Council\, 54 First Avenue\, Atlantic Highlands\, NJ\, 07716\, United States
CATEGORIES:Culture,Workshop/Demonstration
END:VEVENT
BEGIN:VEVENT
DTSTART;TZID=America/New_York:20220319T110000
DTEND;TZID=America/New_York:20220319T160000
DTSTAMP:20260424T061103
CREATED:20220311T220153Z
LAST-MODIFIED:20220517T153939Z
UID:1417-1647687600-1647705600@monmouthvoice.com
SUMMARY:Small Art Show
DESCRIPTION:16 artists over two days in the beautiful Oyster Point Gallery on The Oyster Point Hotel in Red Bank.
URL:https://monmouthvoice.com/event/small-art-show/
LOCATION:Oyster Point Gallery\, 146 Bodman Place\, Red Bank\, 07701\, United States
CATEGORIES:Art Exhibit,Culture
ATTACH;FMTTYPE=image/jpeg:https://monmouthvoice.com/wp-content/uploads/2022/03/B53378DD-9902-4461-9608-325044F92D48.jpeg
ORGANIZER;CN="Ellen Martin%2C Dawn DiCicco%2C Sandy Taylor":MAILTO:ellenmartin101@gmail.com
END:VEVENT
BEGIN:VEVENT
DTSTART;TZID=America/New_York:20220312T060000
DTEND;TZID=America/New_York:20220312T060000
DTSTAMP:20260424T061103
CREATED:20220311T153019Z
LAST-MODIFIED:20220517T153826Z
UID:1406-1647064800-1647064800@monmouthvoice.com
SUMMARY:Black & White & Monochrome  Opening Reception & Curator Talk\, Saturday\, March 12th from 6-8pm
DESCRIPTION:Roberta C. Scott\, A Woman’s Day Is Never Done”\nOpening Reception & Curator Talk\nSaturday\, March 12\, 2022\n6:00 PM 8:00 PM\nAH Arts\n54 First AvenueAtlantic Highlands\, NJ\, 07716 United States (map)
URL:https://monmouthvoice.com/event/black-white-monochrome-opening-reception-curator-talk-saturday-march-12th-from-6-8pm/
LOCATION:Atlantic Highlands Arts Council\, 54 First Avenue\, Atlantic Highlands\, NJ\, 07716\, United States
CATEGORIES:Art Opening,Culture
END:VEVENT
BEGIN:VEVENT
DTSTART;TZID=America/New_York:20220205T180000
DTEND;TZID=America/New_York:20220205T180000
DTSTAMP:20260424T061103
CREATED:20220125T213321Z
LAST-MODIFIED:20220517T153838Z
UID:1252-1644084000-1644084000@monmouthvoice.com
SUMMARY:Art Exhibit: Karen Bright “It’s a Question of Survival” [a collection of thoughtful paintings]
DESCRIPTION:Art Exhibit: Karen Bright “It’s a Question of Survival” [a collection of thoughtful paintings] at Atlantic Highlands Arts Council Opening Reception\, January 29th from 6-8pm. Artist talk begins at 6:30. Masks required. \nAtlantic Highlands Arts Council 54 First Avenue\, PO Box 236\nAtlantic Highlands\, NJ 07716 \n 
URL:https://monmouthvoice.com/event/art-exhibit-karen-bright-its-a-question-of-survival-a-collection-of-thoughtful-paintings/
LOCATION:Atlantic Highlands Arts Council\, 54 First Avenue\, Atlantic Highlands\, NJ\, 07716\, United States
CATEGORIES:Art Exhibit,Culture
ATTACH;FMTTYPE=image/jpeg:https://monmouthvoice.com/wp-content/uploads/2022/01/FloatState_AwayAwayAsAHorse-1.jpg
END:VEVENT
BEGIN:VEVENT
DTSTART;TZID=America/New_York:20220124T200000
DTEND;TZID=America/New_York:20220124T220000
DTSTAMP:20260424T061103
CREATED:20220115T234209Z
LAST-MODIFIED:20220517T153849Z
UID:1223-1643054400-1643061600@monmouthvoice.com
SUMMARY:HBO Max Watch Party: T. Thomas Fortune Hits the Big Screen!January 24 at 8 pm at the Cultural Center.
DESCRIPTION:HBO Max Watch Party: T. Thomas Fortune Hits the Big Screen!  \n  \nRed Bank\, NJ – On January 24\, 2022\, HBO Max will start streaming a new series\,“The Gilded Age.” The show will feature the character of T. Thomas Fortune\, played by actor Sullivan Jones. It takes place in New York in 1882 during the American Gilded Age\, a time of economic change and conflict between the old world and the new world. The virtual watch party will start at 8 pm and will feature Jones\, who will join us in the party and discuss his role as T. Thomas Fortune. You must register at: fortuneonhbomax.eventbrite.com and all participants must have their own subscription to HBO Max to watch the series.  \nJones\, who visited the T. Thomas Fortune Cultural Center last spring after accepting the role\, learned the rich history of the trailblazing giant. Jones has big shoes to fill in his portrayal of Fortune\, who was born into slavery in 1856 in Florida. Fortune made a name for himself as a journalist and newspaper publisher\, during the Gilded Age in New York\, where his newspapers\, the New York Globe\, Freeman and the New York Age\, were published. Fortune was a dynamic orator\, who spoke truth to power and someone many politicians feared.  \nJones learned quite a bit about Fortune\, who started the first successful black political organization in 1887\, The National Afro-American League\, a precursor to the NAACP.  The actor spoke with Lynn Humphrey\, who is the Cultural Center’s archivist and she filled his cup until it runneth over\, with information on Fortune and his family. They lived in Red Bank from 1901-1910. The information Jones gained that day from his visit was assuring to the actor\, as he steps into this role. Most people have never heard of T. Thomas Fortune. However\, this highly anticipated series\, with Jones appearing in almost every episode\, will introduce them to Fortune\, who was a force to be reckoned with during this time.   \nThe show will also feature The Good Fight’s Christine Baranski\, And Just Like That’s Cynthia Nixon and Meryl Streep’s youngest daughter making her series debut. The T. Thomas Fortune Cultural Center will be hosting a watch party January 24 at 8 pm at the Cultural Center. This will be an exciting event celebrating Fortune on the big screen. Don’t miss it! \nFor more information visit https://www.tthomasfortuneculturalcenter.org/fortune-on-hbo and contact evelynfortunefoundation@gmail.com for further questions. Follow us on Instagram @t.thomasfortune and Twitter @TThomasFortune9.  \n 
URL:https://monmouthvoice.com/event/hbo-max-watch-party-t-thomas-fortune-hits-the-big-screenjanuary-24-at-8-pm-at-the-cultural-center/
LOCATION:T. Thomas Fortune Cultural Center\, Red Bank\, NJ\, 07701\, United States
CATEGORIES:Culture
ATTACH;FMTTYPE=image/jpeg:https://monmouthvoice.com/wp-content/uploads/2022/01/image0-1.jpeg
END:VEVENT
END:VCALENDAR